BEGIN:VCALENDAR
VERSION:2.0
PRODID:-// - ECPv6.15.20//NONSGML v1.0//EN
CALSCALE:GREGORIAN
METHOD:PUBLISH
X-ORIGINAL-URL:https://billkerrmusic.com
X-WR-CALDESC:Events for 
REFRESH-INTERVAL;VALUE=DURATION:PT1H
X-Robots-Tag:noindex
X-PUBLISHED-TTL:PT1H
BEGIN:VTIMEZONE
TZID:America/New_York
BEGIN:DAYLIGHT
TZOFFSETFROM:-0500
TZOFFSETTO:-0400
TZNAME:EDT
DTSTART:20220313T070000
END:DAYLIGHT
BEGIN:STANDARD
TZOFFSETFROM:-0400
TZOFFSETTO:-0500
TZNAME:EST
DTSTART:20221106T060000
END:STANDARD
BEGIN:DAYLIGHT
TZOFFSETFROM:-0500
TZOFFSETTO:-0400
TZNAME:EDT
DTSTART:20230312T070000
END:DAYLIGHT
BEGIN:STANDARD
TZOFFSETFROM:-0400
TZOFFSETTO:-0500
TZNAME:EST
DTSTART:20231105T060000
END:STANDARD
BEGIN:DAYLIGHT
TZOFFSETFROM:-0500
TZOFFSETTO:-0400
TZNAME:EDT
DTSTART:20240310T070000
END:DAYLIGHT
BEGIN:STANDARD
TZOFFSETFROM:-0400
TZOFFSETTO:-0500
TZNAME:EST
DTSTART:20241103T060000
END:STANDARD
END:VTIMEZONE
BEGIN:VEVENT
DTSTART;TZID=America/New_York:20230503T170000
DTEND;TZID=America/New_York:20230503T200000
DTSTAMP:20260421T145552
CREATED:20230411T000136Z
LAST-MODIFIED:20230411T000136Z
UID:1268-1683133200-1683144000@billkerrmusic.com
SUMMARY:Solo Jazz at Havana's
DESCRIPTION:
URL:https://billkerrmusic.com/event/solo-jazz-at-havanas-39/
LOCATION:Havana’s\, 1 N Lake Park Blvd\, Carolina Beach\, NC\, 28428\, United States
CATEGORIES:Jazz,Solo Event
END:VEVENT
BEGIN:VEVENT
DTSTART;TZID=America/New_York:20230428T200000
DTEND;TZID=America/New_York:20230428T230000
DTSTAMP:20260421T145552
CREATED:20230331T011649Z
LAST-MODIFIED:20230428T152721Z
UID:1264-1682712000-1682722800@billkerrmusic.com
SUMMARY:Solo Jazz at Grand Cru
DESCRIPTION:
URL:https://billkerrmusic.com/event/solo-jazz-at-grand-cru-3/
LOCATION:Grand Cru Restaurant\, 1904 Eastwood Rd STE 109\, Wilmington\, NC\, 28403\, United States
CATEGORIES:Jazz,Solo Event
END:VEVENT
BEGIN:VEVENT
DTSTART;TZID=America/New_York:20230426T180000
DTEND;TZID=America/New_York:20230426T210000
DTSTAMP:20260421T145552
CREATED:20230331T011207Z
LAST-MODIFIED:20230331T011207Z
UID:1260-1682532000-1682542800@billkerrmusic.com
SUMMARY:Burning Bridges at Rusty Nail
DESCRIPTION:
URL:https://billkerrmusic.com/event/burning-bridges-at-rusty-nail-5/
LOCATION:Rusty Nail\, 1310 S 5th Ave\, Wilmington\, NC\, 28401\, United States
CATEGORIES:Burnin' Bridges,Burning Bridges,Jazz
END:VEVENT
BEGIN:VEVENT
DTSTART;TZID=America/New_York:20230422T210000
DTEND;TZID=America/New_York:20230422T235900
DTSTAMP:20260421T145552
CREATED:20230330T194737Z
LAST-MODIFIED:20230330T194737Z
UID:1256-1682197200-1682207940@billkerrmusic.com
SUMMARY:Down South Thunder at Beach Bumz
DESCRIPTION:
URL:https://billkerrmusic.com/event/down-south-thunder-at-beach-bumz-27/
LOCATION:Beach Bumz\, 105 Boardwalk\, Carolina Beach\, NC
CATEGORIES:Down South Thunder,Modern Country & Southern Rock
END:VEVENT
BEGIN:VEVENT
DTSTART;TZID=America/New_York:20230421T210000
DTEND;TZID=America/New_York:20230421T235900
DTSTAMP:20260421T145552
CREATED:20230330T191425Z
LAST-MODIFIED:20230330T191425Z
UID:1254-1682110800-1682121540@billkerrmusic.com
SUMMARY:Down South Thunder at Beach Bumz
DESCRIPTION:
URL:https://billkerrmusic.com/event/down-south-thunder-at-beach-bumz-26/
LOCATION:Beach Bumz\, 105 Boardwalk\, Carolina Beach\, NC
CATEGORIES:Down South Thunder,Modern Country & Southern Rock
END:VEVENT
END:VCALENDAR